{
 "currentVersion": 11.2,
 "serviceDescription": "MOW/Medicaid_Clients_Density",
 "name": "MOW/Medicaid_Clients_Density",
 "description": "",
 "extent": {
  "xmin": 1384331.9354683203,
  "ymin": 465141.0095172378,
  "xmax": 1534174.6052889498,
  "ymax": 646026.7822489138,
  "spatialReference": {
   "wkid": 102719,
   "latestWkid": 2264
  }
 },
 "initialExtent": {
  "xmin": 1384331.9354683203,
  "ymin": 465141.0095172378,
  "xmax": 1534174.6052889498,
  "ymax": 646026.7822489138,
  "spatialReference": {
   "wkid": 102719,
   "latestWkid": 2264
  }
 },
 "fullExtent": {
  "xmin": 1384331.9354683203,
  "ymin": 465141.0095172378,
  "xmax": 1534174.6052889498,
  "ymax": 646026.7822489138,
  "spatialReference": {
   "wkid": 102719,
   "latestWkid": 2264
  }
 },
 "sortableFields": "",
 "bandCount": 1,
 "pixelType": "F32",
 "minValues": [
  0
 ],
 "maxValues": [
  3651.175048828125
 ],
 "meanValues": [
  395.7827774907545
 ],
 "stdvValues": [
  604.9754798752691
 ],
 "hasMultidimensions": false,
 "pixelSizeX": 596.9827482893606,
 "pixelSizeY": 596.9827482893597,
 "meanPixelSize": 181.9607056000082,
 "datasetFormat": "SDR",
 "uncompressedSize": 304212,
 "blockWidth": 128,
 "blockHeight": 128,
 "compressionType": "NONE",
 "bandNames": [
  "Band_1"
 ],
 "allowCopy": true,
 "allowAnalysis": true,
 "itemAccess": false,
 "inspectionCapabilities": "",
 "minPixelSize": 0,
 "maxPixelSize": 0,
 "copyrightText": "",
 "serviceDataType": "esriImageServiceDataTypeGeneric",
 "serviceSourceType": "esriImageServiceSourceTypeDataset",
 "objectIdField": "",
 "fields": [],
 "capabilities": "Image,Metadata,Mensuration",
 "defaultMosaicMethod": "Center",
 "allowedMosaicMethods": "",
 "sortField": "",
 "sortValue": null,
 "sortAscending": true,
 "mosaicOperator": "First",
 "defaultCompressionQuality": 75,
 "defaultResamplingMethod": "Bilinear",
 "maxImageHeight": 4100,
 "maxImageWidth": 15000,
 "allowRasterFunction": true,
 "rasterFunctionInfos": [
  {
   "name": "None",
   "description": "",
   "help": ""
  }
 ],
 "rasterTypeInfos": [
  {
   "name": "Raster Dataset",
   "description": "Supports all ArcGIS Raster Datasets",
   "help": ""
  }
 ],
 "mensurationCapabilities": "Basic",
 "hasHistograms": true,
 "hasColormap": false,
 "hasRasterAttributeTable": false,
 "minScale": 0,
 "maxScale": 0,
 "exportTilesAllowed": false,
 "supportsStatistics": false,
 "supportsAdvancedQueries": false,
 "editFieldsInfo": null,
 "ownershipBasedAccessControlForRasters": null,
 "allowComputeTiePoints": false,
 "useStandardizedQueries": true,
 "advancedQueryCapabilities": {
  "useStandardizedQueries": true,
  "supportsStatistics": false,
  "supportsOrderBy": false,
  "supportsDistinct": false,
  "supportsPagination": false
 },
 "spatialReference": {
  "wkid": 102719,
  "latestWkid": 2264
 }
}
