View In:
ArcGIS JavaScript
ArcGIS Online Map Viewer
ArcGIS Earth
Service Description: MOW/Homebound_Clients_Density
Name: MOW/Homebound_Clients_Density
Description:
Single Fused Map Cache: false
Extent:
XMin: 1390190.7193541012
YMin: 469235.46195791103
XMax: 1522925.3128004067
YMax: 645862.3711653454
Spatial Reference: 102719
(2264)
Initial Extent:
XMin: 1390190.7193541012
YMin: 469235.46195791103
XMax: 1522925.3128004067
YMax: 645862.3711653454
Spatial Reference: 102719
(2264)
Full Extent:
XMin: 1390190.7193541012
YMin: 469235.46195791103
XMax: 1522925.3128004067
YMax: 645862.3711653454
Spatial Reference: 102719
(2264)
Pixel Size X: 528.8230814593844
Pixel Size Y: 528.8230814593844
Band Count: 1
Pixel Type: F32
RasterFunction Infos: {"rasterFunctionInfos": [{
"name": "None",
"description": "",
"help": ""
}]}
Mensuration Capabilities: Basic
Inspection Capabilities:
Has Histograms: true
Has Colormap: false
Has Multi Dimensions : false
Rendering Rule:
Min Scale: 0
Max Scale: 0
Copyright Text:
Service Data Type: esriImageServiceDataTypeGeneric
Min Values: 0
Max Values: 32.686187744140625
Mean Values: 1.419238507973032
Standard Deviation Values: 3.0400150529326506
Object ID Field:
Fields:
None
Default Mosaic Method: Center
Allowed Mosaic Methods:
SortField:
SortValue: null
Mosaic Operator: First
Default Compression Quality: 75
Default Resampling Method: Bilinear
Max Record Count: null
Max Image Height: 4100
Max Image Width: 15000
Max Download Image Count: null
Max Mosaic Image Count: null
Allow Raster Function: true
Allow Copy: true
Allow Analysis: true
Allow Compute TiePoints: false
Supports Statistics: false
Supports Advanced Queries: false
Use StandardizedQueries: true
Raster Type Infos:
Name: Raster Dataset
Description: Supports all ArcGIS Raster Datasets
Help:
Has Raster Attribute Table: false
Edit Fields Info: null
Ownership Based AccessControl For Rasters: null
Child Resources:
Info
Histograms
Statistics
Key Properties
Legend
Raster Function Infos
Supported Operations:
Export Image
Identify
Measure
Compute Histograms
Compute Statistics Histograms
Get Samples
Compute Class Statistics
Query Boundary
Compute Pixel Location
Compute Angles
Validate
Project